﻿BEGIN:VCALENDAR
VERSION:2.0
PRODID:-//Jeu COOP - ECPv6.8.3//NONSGML v1.0//EN
CALSCALE:GREGORIAN
METHOD:PUBLISH
X-ORIGINAL-URL:https://www.jeu-coop.fr
X-WR-CALDESC:Évènements pour Jeu COOP
REFRESH-INTERVAL;VALUE=DURATION:PT1H
X-Robots-Tag:noindex
X-PUBLISHED-TTL:PT1H
BEGIN:VTIMEZONE
TZID:Europe/Paris
BEGIN:DAYLIGHT
TZOFFSETFROM:+0100
TZOFFSETTO:+0200
TZNAME:CEST
DTSTART:20170326T010000
END:DAYLIGHT
BEGIN:STANDARD
TZOFFSETFROM:+0200
TZOFFSETTO:+0100
TZNAME:CET
DTSTART:20171029T010000
END:STANDARD
END:VTIMEZONE
BEGIN:VEVENT
DTSTART;TZID=Europe/Paris:20171204T223000
DTEND;TZID=Europe/Paris:20171205T000000
DTSTAMP:20260420T113031
CREATED:20171130T192112Z
LAST-MODIFIED:20180314T174738Z
UID:11051-1512426600-1512432000@www.jeu-coop.fr
SUMMARY:GOW 4 #L13
DESCRIPTION:DescriptionRègles Jeu COOP\nJeu COOP propose des Soirées sur le Jeu Gears of War 4. Préparez-vous à vivre une Session en Exécution & Gardien avec un minimum de Compet\, du Fair-Play et surtout un Max de Fun ! Régalez-vous ! ^^ \n\nOrganisation Globale\n\n\nBRIEFING : Nous grouperons les Joueurs en GA (Groupe d’Amis) vers 22H30 pour débuter la Session à 22H45 maximum. Si jamais nous sommes trop nombreux\, nous nommerons des Joueurs Référents qui assisterons au BRIEFING. Ils organiseront ensuite les GA avec les Joueurs de leur Equipe pour faire un point.\n\nGROUPE DE MESSAGES : Un Groupe pour discuter par Messages écrits sera créé en amont de la Soirée. Il fournira la possibilité à chacun de s’informer des choses importantes durant l’Evénement. Si jamais nous sommes trop nombreux\, seuls les Joueurs Référents présents au BRIEFING seront invités à ce Groupe de Messages. Ils véhiculeront de ce fait les Infos à leur propre Groupe de Joueurs.\n\nDÉBRIEFING : En fin de Partie (vers 00H)\, nous grouperons à nouveau les Joueurs en GA pour faire un point sur la Soirée. Si jamais nous sommes trop nombreux\, nous inviterons uniquement les Référents présents au BRIEFING pour DÉBRIEFER ensemble. Ils auront\, au préalable\, pris le temps de faire un Mini-Débrief avec leur Equipe pour pouvoir remonter les Informations importantes.\n\n\nExclusions\n\nAvoir l’Esprit Jeu COOP. Ou pas… \n\n\n1ER AVERTISSEMENT : En cas de non respect des Règles durant un certain laps de temps (à l’appréciation du Référent)\, le Joueur incriminé sera exclu de la Partie. Il pourra\, s’il le souhaite\, revenir sur le Serveur. Mais en respectant cette fois-ci les dites Règles demandées ici-même.\n\n2EME AVERTISSEMENT : En cas de Récidive (faut le faire quand même)\, le Joueur sera exclu définitivement de la Soirée. Il pourra\, s’il le souhaite\, venir s’expliquer en DÉBRIEFING à la fin de la Soirée.\n\n3EME AVERTISSEMENT : N’en parlons même pas\, ça ne sert à rien… –‘ #boulet #jeankevin #vivelamaturité #intellectsouslespieds\n\n\n\n\n2 Modes de Jeu sont proposés dans une même Soirée Gears of War sur Jeu COOP \n\nParamètres Serveur : EXECUTION\n\n\nMode de Jeu : Exécution\n\nMaps Jouées : 3 Maps (5 Maps proposées au Vote)\n\nBots : Si le nombre de Joueurs est insuffisant\, la Difficulté des Bots ajoutés sera en Vétéran\n\nArmes de départ : Lanzor\, Fumigènes\, Pistolet Court & Destructeur\n\nManches pour Gagner : 5\n\nDurée Limite de la Manche : 3 Minutes\n\nMatchs Nuls Classiques : OUI\n\nTemps passé au Tapis : 10 Secondes\n\nTir Ami : OUI (Réduction)\n\nRéapparitions d’Arme : Après Utilisation\n\nRéglage d’Armes : Jeu COOP (Voir « Limitations Globales »)\n\nScreen des Maps : Jeu COOP (A Venir…)\n\n\nParamètres Serveur : GARDIEN\n\n\nMode de Jeu : Gardien\n\nMaps Jouées : 3 Maps (5 Maps proposées au Vote)\n\nBots : Si le nombre de Joueurs est insuffisant\, la Difficulté des Bots ajoutés sera en Vétéran\n\nArmes de départ : Lanzor\, Fumigènes\, Pistolet Court & Destructeur\n\nManches pour Gagner : 3\n\nRègles d’Exécution : OUI\n\nDélai de Réapparition : 10 Secondes\n\nTemps passé au Tapis : 10 Secondes\n\nTir Ami : OUI (Réduction)\n\nRéapparitions d’Arme : Après Utilisation\n\nRéglage d’Armes : Jeu COOP (Voir « Limitations Globales »)\n\nScreen des Maps : Jeu COOP (A Venir…)\n\n\nLimitations Globales\n\n\nJoueurs PC : Pour le moment\, nous privilégions uniquement les Joueurs Xbox ONE\n\nSkins Interdits : Colorés\, Veilleurs\, URI\, Marcus Agé\, Jour des Morts & Zombies\n\nArmes de Départ Interdites : Exécuteur & Kaomax\n\nArmes au Sol Interdites : Jeu COOP (Voir ci-dessous)
URL:https://www.jeu-coop.fr/evenement/gow4-l13/
CATEGORIES:Gears of War,Soirées
END:VEVENT
BEGIN:VEVENT
DTSTART;TZID=Europe/Paris:20171206T210000
DTEND;TZID=Europe/Paris:20171206T223000
DTSTAMP:20260420T113031
CREATED:20171201T022814Z
LAST-MODIFIED:20180314T174735Z
UID:11082-1512594000-1512599400@www.jeu-coop.fr
SUMMARY:GOW 4 #M13
DESCRIPTION:DescriptionRègles Jeu COOP\nJeu COOP propose des Soirées sur le Jeu Gears of War 4. Préparez-vous à vivre une Session en DodgeBall & Escalade avec un minimum de Compet\, du Fair-Play et surtout un Max de Fun ! Régalez-vous ! ^^ \n\nOrganisation Globale\n\n\nBRIEFING : Nous grouperons les Joueurs en GA (Groupe d’Amis) vers 21H pour débuter la Session à 21H15 maximum. Si jamais nous sommes trop nombreux\, nous nommerons des Joueurs Référents qui assisterons au BRIEFING. Ils organiseront ensuite les GA avec les Joueurs de leur Equipe pour faire un point.\n\nGROUPE DE MESSAGES : Un Groupe pour discuter par Messages écrits sera créé en amont de la Soirée. Il fournira la possibilité à chacun de s’informer des choses importantes durant l’Evénement. Si jamais nous sommes trop nombreux\, seuls les Joueurs Référents présents au BRIEFING seront invités à ce Groupe de Messages. Ils véhiculeront de ce fait les Infos à leur propre Groupe de Joueurs.\n\nDÉBRIEFING : En fin de Partie (vers 23H)\, nous grouperons à nouveau les Joueurs en GA pour faire un point sur la Soirée. Si jamais nous sommes trop nombreux\, nous inviterons uniquement les Référents présents au BRIEFING pour DÉBRIEFER ensemble. Ils auront\, au préalable\, pris le temps de faire un Mini-Débrief avec leur Equipe pour pouvoir remonter les Informations importantes.\n\n\nExclusions\n\nAvoir l’Esprit Jeu COOP. Ou pas… \n\n\n1ER AVERTISSEMENT : En cas de non respect des Règles durant un certain laps de temps (à l’appréciation du Référent)\, le Joueur incriminé sera exclu de la Partie. Il pourra\, s’il le souhaite\, revenir sur le Serveur. Mais en respectant cette fois-ci les dites Règles demandées ici-même.\n\n2EME AVERTISSEMENT : En cas de Récidive (faut le faire quand même)\, le Joueur sera exclu définitivement de la Soirée. Il pourra\, s’il le souhaite\, venir s’expliquer en DÉBRIEFING à la fin de la Soirée.\n\n3EME AVERTISSEMENT : N’en parlons même pas\, ça ne sert à rien… –‘ #boulet #jeankevin #vivelamaturité #intellectsouslespieds\n\n\n\n\n2 Modes de Jeu sont proposés dans une même Soirée Gears of War sur Jeu COOP \n\nParamètres Serveur : DODGEBALL\n\n\nMode de Jeu : DodgeBall\n\nMaps Jouées : 3 Maps (5 Maps proposées au Vote)\n\nBots : Si le nombre de Joueurs est insuffisant\, la Difficulté des Bots ajoutés sera en Vétéran\n\nArmes de départ : Lanzor\, Fumigènes\, Pistolet Court & Destructeur\n\nManches pour Gagner : 3\n\nRègles d’Exécution : OUI\n\nTemps passé au Tapis : 10 Secondes\n\nTir Ami : OUI (Réduction)\n\nRéapparitions d’Arme : Après Utilisation\n\nRéglage d’Armes : Jeu COOP (Voir « Limitations Globales »)\n\nScreen des Maps : Jeu COOP (A Venir…)\n\n\nParamètres Serveur : ESCALADE\n\n\nMode de Jeu : Escalade\n\nMaps Jouées : 3 Maps (5 Maps proposées au Vote)\n\nBots : Si le nombre de Joueurs est insuffisant\, la Difficulté des Bots ajoutés sera en Vétéran\n\nArmes de départ : Lanzor\, Fumigènes\, Pistolet Court & Destructeur\n\nManches pour Gagner : 7\n\nRègles d’Exécution : OUI\n\nDélai de Réapparition : Dépend des Manches Jouées\n\nTemps passé au Tapis : 10 Secondes\n\nTir Ami : OUI (Réduction)\n\nRéapparitions d’Arme : Après Utilisation\n\nRéglage d’Armes : Jeu COOP (Voir « Limitations Globales »)\n\nScreen des Maps : Jeu COOP (A Venir…)\n\n\nLimitations Globales\n\n\nJoueurs PC : Pour le moment\, nous privilégions uniquement les Joueurs Xbox ONE\n\nSkins Interdits : Colorés\, Veilleurs\, URI\, Marcus Agé\, Jour des Morts & Zombies\n\nArmes de Départ Interdites : Exécuteur & Kaomax\n\nArmes au Sol Interdites : Jeu COOP (Voir ci-dessous)
URL:https://www.jeu-coop.fr/evenement/gow4-m13/
CATEGORIES:Gears of War,Soirées
END:VEVENT
BEGIN:VEVENT
DTSTART;TZID=Europe/Paris:20171211T223000
DTEND;TZID=Europe/Paris:20171212T000000
DTSTAMP:20260420T113031
CREATED:20171206T193844Z
LAST-MODIFIED:20180314T174736Z
UID:11760-1513031400-1513036800@www.jeu-coop.fr
SUMMARY:GOW 4 #L14
DESCRIPTION:DescriptionRègles Jeu COOP\nJeu COOP propose des Soirées sur le Jeu Gears of War 4. Préparez-vous à vivre une Session en Exécution & Gardien avec un minimum de Compet\, du Fair-Play et surtout un Max de Fun ! Régalez-vous ! ^^ \n\nOrganisation Globale\n\n\nBRIEFING : Nous grouperons les Joueurs en GA (Groupe d’Amis) vers 22H30 pour débuter la Session à 22H45 maximum. Si jamais nous sommes trop nombreux\, nous nommerons des Joueurs Référents qui assisterons au BRIEFING. Ils organiseront ensuite les GA avec les Joueurs de leur Equipe pour faire un point.\n\nGROUPE DE MESSAGES : Un Groupe pour discuter par Messages écrits sera créé en amont de la Soirée. Il fournira la possibilité à chacun de s’informer des choses importantes durant l’Evénement. Si jamais nous sommes trop nombreux\, seuls les Joueurs Référents présents au BRIEFING seront invités à ce Groupe de Messages. Ils véhiculeront de ce fait les Infos à leur propre Groupe de Joueurs.\n\nDÉBRIEFING : En fin de Partie (vers 00H)\, nous grouperons à nouveau les Joueurs en GA pour faire un point sur la Soirée. Si jamais nous sommes trop nombreux\, nous inviterons uniquement les Référents présents au BRIEFING pour DÉBRIEFER ensemble. Ils auront\, au préalable\, pris le temps de faire un Mini-Débrief avec leur Equipe pour pouvoir remonter les Informations importantes.\n\n\nExclusions\n\nAvoir l’Esprit Jeu COOP. Ou pas… \n\n\n1ER AVERTISSEMENT : En cas de non respect des Règles durant un certain laps de temps (à l’appréciation du Référent)\, le Joueur incriminé sera exclu de la Partie. Il pourra\, s’il le souhaite\, revenir sur le Serveur. Mais en respectant cette fois-ci les dites Règles demandées ici-même.\n\n2EME AVERTISSEMENT : En cas de Récidive (faut le faire quand même)\, le Joueur sera exclu définitivement de la Soirée. Il pourra\, s’il le souhaite\, venir s’expliquer en DÉBRIEFING à la fin de la Soirée.\n\n3EME AVERTISSEMENT : N’en parlons même pas\, ça ne sert à rien… –‘ #boulet #jeankevin #vivelamaturité #intellectsouslespieds\n\n\n\n\n2 Modes de Jeu sont proposés dans une même Soirée Gears of War sur Jeu COOP \n\nParamètres Serveur : EXECUTION\n\n\nMode de Jeu : Exécution\n\nMaps Jouées : 3 Maps (5 Maps proposées au Vote)\n\nBots : Si le nombre de Joueurs est insuffisant\, la Difficulté des Bots ajoutés sera en Vétéran\n\nArmes de départ : Lanzor\, Fumigènes\, Pistolet Court & Destructeur\n\nManches pour Gagner : 5\n\nDurée Limite de la Manche : 3 Minutes\n\nMatchs Nuls Classiques : OUI\n\nTemps passé au Tapis : 10 Secondes\n\nTir Ami : OUI (Réduction)\n\nRéapparitions d’Arme : Après Utilisation\n\nRéglage d’Armes : Jeu COOP (Voir « Limitations Globales »)\n\nScreen des Maps : Jeu COOP (A Venir…)\n\n\nParamètres Serveur : GARDIEN\n\n\nMode de Jeu : Gardien\n\nMaps Jouées : 3 Maps (5 Maps proposées au Vote)\n\nBots : Si le nombre de Joueurs est insuffisant\, la Difficulté des Bots ajoutés sera en Vétéran\n\nArmes de départ : Lanzor\, Fumigènes\, Pistolet Court & Destructeur\n\nManches pour Gagner : 3\n\nRègles d’Exécution : OUI\n\nDélai de Réapparition : 10 Secondes\n\nTemps passé au Tapis : 10 Secondes\n\nTir Ami : OUI (Réduction)\n\nRéapparitions d’Arme : Après Utilisation\n\nRéglage d’Armes : Jeu COOP (Voir « Limitations Globales »)\n\nScreen des Maps : Jeu COOP (A Venir…)\n\n\nLimitations Globales\n\n\nJoueurs PC : Pour le moment\, nous privilégions uniquement les Joueurs Xbox ONE\n\nSkins Interdits : Colorés\, Veilleurs\, URI\, Marcus Agé\, Jour des Morts & Zombies\n\nArmes de Départ Interdites : Exécuteur & Kaomax\n\nArmes au Sol Interdites : Jeu COOP (Voir ci-dessous)
URL:https://www.jeu-coop.fr/evenement/gow4-l14/
CATEGORIES:Gears of War,Soirées
END:VEVENT
BEGIN:VEVENT
DTSTART;TZID=Europe/Paris:20171213T210000
DTEND;TZID=Europe/Paris:20171213T223000
DTSTAMP:20260420T113031
CREATED:20171206T193756Z
LAST-MODIFIED:20180314T174733Z
UID:11763-1513198800-1513204200@www.jeu-coop.fr
SUMMARY:GOW 4 #M14
DESCRIPTION:DescriptionRègles Jeu COOP\nJeu COOP propose des Soirées sur le Jeu Gears of War 4. Préparez-vous à vivre une Session en DodgeBall & Escalade avec un minimum de Compet\, du Fair-Play et surtout un Max de Fun ! Régalez-vous ! ^^ \n\nOrganisation Globale\n\n\nBRIEFING : Nous grouperons les Joueurs en GA (Groupe d’Amis) vers 21H pour débuter la Session à 21H15 maximum. Si jamais nous sommes trop nombreux\, nous nommerons des Joueurs Référents qui assisterons au BRIEFING. Ils organiseront ensuite les GA avec les Joueurs de leur Equipe pour faire un point.\n\nGROUPE DE MESSAGES : Un Groupe pour discuter par Messages écrits sera créé en amont de la Soirée. Il fournira la possibilité à chacun de s’informer des choses importantes durant l’Evénement. Si jamais nous sommes trop nombreux\, seuls les Joueurs Référents présents au BRIEFING seront invités à ce Groupe de Messages. Ils véhiculeront de ce fait les Infos à leur propre Groupe de Joueurs.\n\nDÉBRIEFING : En fin de Partie (vers 23H)\, nous grouperons à nouveau les Joueurs en GA pour faire un point sur la Soirée. Si jamais nous sommes trop nombreux\, nous inviterons uniquement les Référents présents au BRIEFING pour DÉBRIEFER ensemble. Ils auront\, au préalable\, pris le temps de faire un Mini-Débrief avec leur Equipe pour pouvoir remonter les Informations importantes.\n\n\nExclusions\n\nAvoir l’Esprit Jeu COOP. Ou pas… \n\n\n1ER AVERTISSEMENT : En cas de non respect des Règles durant un certain laps de temps (à l’appréciation du Référent)\, le Joueur incriminé sera exclu de la Partie. Il pourra\, s’il le souhaite\, revenir sur le Serveur. Mais en respectant cette fois-ci les dites Règles demandées ici-même.\n\n2EME AVERTISSEMENT : En cas de Récidive (faut le faire quand même)\, le Joueur sera exclu définitivement de la Soirée. Il pourra\, s’il le souhaite\, venir s’expliquer en DÉBRIEFING à la fin de la Soirée.\n\n3EME AVERTISSEMENT : N’en parlons même pas\, ça ne sert à rien… –‘ #boulet #jeankevin #vivelamaturité #intellectsouslespieds\n\n\n\n\n2 Modes de Jeu sont proposés dans une même Soirée Gears of War sur Jeu COOP \n\nParamètres Serveur : DODGEBALL\n\n\nMode de Jeu : DodgeBall\n\nMaps Jouées : 2 Maps (4 Maps proposées au Vote)\n\nBots : Si le nombre de Joueurs est insuffisant\, la Difficulté des Bots ajoutés sera en Vétéran\n\nArmes de départ : Lanzor\, Fumigènes\, Pistolet Court & Destructeur\n\nManches pour Gagner : 3\n\nRègles d’Exécution : OUI\n\nTemps passé au Tapis : 10 Secondes\n\nTir Ami : OUI (Réduction)\n\nRéapparitions d’Arme : Après Utilisation\n\nRéglage d’Armes : Jeu COOP (Voir « Limitations Globales »)\n\nScreen des Maps : Jeu COOP (A Venir…)\n\n\nParamètres Serveur : ESCALADE\n\n\nMode de Jeu : Escalade\n\nMaps Jouées : 2 Maps (4 Maps proposées au Vote)\n\nBots : Si le nombre de Joueurs est insuffisant\, la Difficulté des Bots ajoutés sera en Vétéran\n\nArmes de départ : Lanzor\, Fumigènes\, Pistolet Court & Destructeur\n\nManches pour Gagner : 7\n\nRègles d’Exécution : OUI\n\nDélai de Réapparition : Dépend des Manches Jouées\n\nTemps passé au Tapis : 10 Secondes\n\nTir Ami : OUI (Réduction)\n\nRéapparitions d’Arme : Après Utilisation\n\nRéglage d’Armes : Jeu COOP (Voir « Limitations Globales »)\n\nScreen des Maps : Jeu COOP (A Venir…)\n\n\nLimitations Globales\n\n\nJoueurs PC : Pour le moment\, nous privilégions uniquement les Joueurs Xbox ONE\n\nSkins Interdits : Colorés\, Veilleurs\, URI\, Marcus Agé\, Jour des Morts & Zombies\n\nArmes de Départ Interdites : Exécuteur & Kaomax\n\nArmes au Sol Interdites : Jeu COOP (Voir ci-dessous)
URL:https://www.jeu-coop.fr/evenement/gow4-m14/
CATEGORIES:Gears of War,Soirées
END:VEVENT
BEGIN:VEVENT
DTSTART;TZID=Europe/Paris:20171218T223000
DTEND;TZID=Europe/Paris:20171219T000000
DTSTAMP:20260420T113031
CREATED:20171216T145605Z
LAST-MODIFIED:20180314T174732Z
UID:12674-1513636200-1513641600@www.jeu-coop.fr
SUMMARY:GOW 4 #L15
DESCRIPTION:DescriptionRègles Jeu COOP\nJeu COOP propose des Soirées sur le Jeu Gears of War 4. Préparez-vous à vivre une Session en Exécution & Gardien avec un minimum de Compet\, du Fair-Play et surtout un Max de Fun ! Régalez-vous ! ^^ \n\nOrganisation Globale\n\n\nBRIEFING : Nous grouperons les Joueurs en GA (Groupe d’Amis) vers 22H30 pour débuter la Session à 22H45 maximum. Si jamais nous sommes trop nombreux\, nous nommerons des Joueurs Référents qui assisterons au BRIEFING. Ils organiseront ensuite les GA avec les Joueurs de leur Equipe pour faire un point.\n\nGROUPE DE MESSAGES : Un Groupe pour discuter par Messages écrits sera créé en amont de la Soirée. Il fournira la possibilité à chacun de s’informer des choses importantes durant l’Evénement. Si jamais nous sommes trop nombreux\, seuls les Joueurs Référents présents au BRIEFING seront invités à ce Groupe de Messages. Ils véhiculeront de ce fait les Infos à leur propre Groupe de Joueurs.\n\nDÉBRIEFING : En fin de Partie (vers 00H)\, nous grouperons à nouveau les Joueurs en GA pour faire un point sur la Soirée. Si jamais nous sommes trop nombreux\, nous inviterons uniquement les Référents présents au BRIEFING pour DÉBRIEFER ensemble. Ils auront\, au préalable\, pris le temps de faire un Mini-Débrief avec leur Equipe pour pouvoir remonter les Informations importantes.\n\n\nExclusions\n\nAvoir l’Esprit Jeu COOP. Ou pas… \n\n\n1ER AVERTISSEMENT : En cas de non respect des Règles durant un certain laps de temps (à l’appréciation du Référent)\, le Joueur incriminé sera exclu de la Partie. Il pourra\, s’il le souhaite\, revenir sur le Serveur. Mais en respectant cette fois-ci les dites Règles demandées ici-même.\n\n2EME AVERTISSEMENT : En cas de Récidive (faut le faire quand même)\, le Joueur sera exclu définitivement de la Soirée. Il pourra\, s’il le souhaite\, venir s’expliquer en DÉBRIEFING à la fin de la Soirée.\n\n3EME AVERTISSEMENT : N’en parlons même pas\, ça ne sert à rien… –‘ #boulet #jeankevin #vivelamaturité #intellectsouslespieds\n\n\n\n\n2 Modes de Jeu sont proposés dans une même Soirée Gears of War sur Jeu COOP \n\nParamètres Serveur : EXECUTION\n\n\nMode de Jeu : Exécution\n\nMaps Jouées : 3 Maps (5 Maps proposées au Vote)\n\nBots : Si le nombre de Joueurs est insuffisant\, la Difficulté des Bots ajoutés sera en Vétéran\n\nArmes de départ : Lanzor\, Fumigènes\, Pistolet Court & Destructeur\n\nManches pour Gagner : 5\n\nDurée Limite de la Manche : 3 Minutes\n\nMatchs Nuls Classiques : OUI\n\nTemps passé au Tapis : 10 Secondes\n\nTir Ami : OUI (Réduction)\n\nRéapparitions d’Arme : Après Utilisation\n\nRéglage d’Armes : Classé\n\nVisuel des Maps : Bientôt Disponible…\n\n\nParamètres Serveur : GARDIEN\n\n\nMode de Jeu : Gardien\n\nMaps Jouées : 3 Maps (5 Maps proposées au Vote)\n\nBots : Si le nombre de Joueurs est insuffisant\, la Difficulté des Bots ajoutés sera en Vétéran\n\nArmes de départ : Lanzor\, Fumigènes\, Pistolet Court & Destructeur\n\nManches pour Gagner : 3\n\nRègles d’Exécution : OUI\n\nDélai de Réapparition : 10 Secondes\n\nTemps passé au Tapis : 10 Secondes\n\nTir Ami : OUI (Réduction)\n\nRéapparitions d’Arme : Après Utilisation\n\nRéglage d’Armes : Classé\n\nVisuel des Maps : Bientôt Disponible…\n\n\nLimitations Globales\n\n\nJoueurs PC : Pour le moment\, nous privilégions uniquement les Joueurs Xbox ONE\n\nSkins Interdits : Colorés\, Veilleurs\, URI\, Marcus Agé\, Jour des Morts & Zombies\n\nArmes de Départ Interdites : Exécuteur & Kaomax\n\nArmes au Sol Interdites : Voir ci-dessous
URL:https://www.jeu-coop.fr/evenement/gow4-l15/
CATEGORIES:Gears of War,Soirées
END:VEVENT
BEGIN:VEVENT
DTSTART;TZID=Europe/Paris:20171220T210000
DTEND;TZID=Europe/Paris:20171220T223000
DTSTAMP:20260420T113031
CREATED:20171216T150004Z
LAST-MODIFIED:20180314T174730Z
UID:12673-1513803600-1513809000@www.jeu-coop.fr
SUMMARY:GOW 4 #M15
DESCRIPTION:DescriptionRègles Jeu COOP\nJeu COOP propose des Soirées sur le Jeu Gears of War 4. Préparez-vous à vivre une Session en DodgeBall & Escalade avec un minimum de Compet\, du Fair-Play et surtout un Max de Fun ! Régalez-vous ! ^^ \n\nOrganisation Globale\n\n\nBRIEFING : Nous grouperons les Joueurs en GA (Groupe d’Amis) vers 21H pour débuter la Session à 21H15 maximum. Si jamais nous sommes trop nombreux\, nous nommerons des Joueurs Référents qui assisterons au BRIEFING. Ils organiseront ensuite les GA avec les Joueurs de leur Equipe pour faire un point.\n\nGROUPE DE MESSAGES : Un Groupe pour discuter par Messages écrits sera créé en amont de la Soirée. Il fournira la possibilité à chacun de s’informer des choses importantes durant l’Evénement. Si jamais nous sommes trop nombreux\, seuls les Joueurs Référents présents au BRIEFING seront invités à ce Groupe de Messages. Ils véhiculeront de ce fait les Infos à leur propre Groupe de Joueurs.\n\nDÉBRIEFING : En fin de Partie (vers 23H)\, nous grouperons à nouveau les Joueurs en GA pour faire un point sur la Soirée. Si jamais nous sommes trop nombreux\, nous inviterons uniquement les Référents présents au BRIEFING pour DÉBRIEFER ensemble. Ils auront\, au préalable\, pris le temps de faire un Mini-Débrief avec leur Equipe pour pouvoir remonter les Informations importantes.\n\n\nExclusions\n\nAvoir l’Esprit Jeu COOP. Ou pas… \n\n\n1ER AVERTISSEMENT : En cas de non respect des Règles durant un certain laps de temps (à l’appréciation du Référent)\, le Joueur incriminé sera exclu de la Partie. Il pourra\, s’il le souhaite\, revenir sur le Serveur. Mais en respectant cette fois-ci les dites Règles demandées ici-même.\n\n2EME AVERTISSEMENT : En cas de Récidive (faut le faire quand même)\, le Joueur sera exclu définitivement de la Soirée. Il pourra\, s’il le souhaite\, venir s’expliquer en DÉBRIEFING à la fin de la Soirée.\n\n3EME AVERTISSEMENT : N’en parlons même pas\, ça ne sert à rien… –‘ #boulet #jeankevin #vivelamaturité #intellectsouslespieds\n\n\n\n\n2 Modes de Jeu sont proposés dans une même Soirée Gears of War sur Jeu COOP \n\nParamètres Serveur : DODGEBALL\n\n\nMode de Jeu : DodgeBall\n\nMaps Jouées : 2 Maps (4 Maps proposées au Vote)\n\nBots : Si le nombre de Joueurs est insuffisant\, la Difficulté des Bots ajoutés sera en Vétéran\n\nArmes de départ : Lanzor\, Fumigènes\, Pistolet Court & Destructeur\n\nManches pour Gagner : 3\n\nRègles d’Exécution : OUI\n\nTemps passé au Tapis : 10 Secondes\n\nTir Ami : OUI (Réduction)\n\nRéapparitions d’Arme : Après Utilisation\n\nRéglage d’Armes : Classé\n\nScreen des Maps : Bientôt Disponible…\n\n\nParamètres Serveur : ESCALADE\n\n\nMode de Jeu : Escalade\n\nMaps Jouées : 2 Maps (4 Maps proposées au Vote)\n\nBots : Si le nombre de Joueurs est insuffisant\, la Difficulté des Bots ajoutés sera en Vétéran\n\nArmes de départ : Lanzor\, Fumigènes\, Pistolet Court & Destructeur\n\nManches pour Gagner : 7\n\nDurée Limite de la Manche : 120\n\nRègles d’Exécution : OUI\n\nDélai de Réapparition : Dépend des Manches Jouées\n\nTemps passé au Tapis : 10 Secondes\n\nTir Ami : OUI (Réduction)\n\nRéapparitions d’Arme : Après Utilisation\n\nRéglage d’Armes : Classé\n\nScreen des Maps : Bientôt Disponible…\n\n\nLimitations Globales\n\n\nJoueurs PC : Pour le moment\, nous privilégions uniquement les Joueurs Xbox ONE\n\nSkins Interdits : Colorés\, Veilleurs\, URI\, Marcus Agé\, Jour des Morts & Zombies\n\nArmes de Départ Interdites : Exécuteur & Kaomax\n\nArmes au Sol Interdites : Voir ci-dessous
URL:https://www.jeu-coop.fr/evenement/gow4-m15/
CATEGORIES:Gears of War,Soirées
END:VEVENT
BEGIN:VEVENT
DTSTART;TZID=Europe/Paris:20171227T210000
DTEND;TZID=Europe/Paris:20171227T223000
DTSTAMP:20260420T113031
CREATED:20171222T125827Z
LAST-MODIFIED:20180314T174725Z
UID:13539-1514408400-1514413800@www.jeu-coop.fr
SUMMARY:GOW 4 #M16
DESCRIPTION:DescriptionRègles Jeu COOP\nJeu COOP propose des Soirées sur le Jeu Gears of War 4. Préparez-vous à vivre une Session en DodgeBall & Escalade avec un minimum de Compet\, du Fair-Play et surtout un Max de Fun ! Régalez-vous ! ^^ \n\nOrganisation Globale\n\n\nBRIEFING : Nous grouperons les Joueurs en GA (Groupe d’Amis) vers 21H pour débuter la Session à 21H15 maximum. Si jamais nous sommes trop nombreux\, nous nommerons des Joueurs Référents qui assisterons au BRIEFING. Ils organiseront ensuite les GA avec les Joueurs de leur Equipe pour faire un point.\n\nGROUPE DE MESSAGES : Un Groupe pour discuter par Messages écrits sera créé en amont de la Soirée. Il fournira la possibilité à chacun de s’informer des choses importantes durant l’Evénement. Si jamais nous sommes trop nombreux\, seuls les Joueurs Référents présents au BRIEFING seront invités à ce Groupe de Messages. Ils véhiculeront de ce fait les Infos à leur propre Groupe de Joueurs.\n\nDÉBRIEFING : En fin de Partie (vers 23H)\, nous grouperons à nouveau les Joueurs en GA pour faire un point sur la Soirée. Si jamais nous sommes trop nombreux\, nous inviterons uniquement les Référents présents au BRIEFING pour DÉBRIEFER ensemble. Ils auront\, au préalable\, pris le temps de faire un Mini-Débrief avec leur Equipe pour pouvoir remonter les Informations importantes.\n\n\nExclusions\n\nAvoir l’Esprit Jeu COOP. Ou pas… \n\n\n1ER AVERTISSEMENT : En cas de non respect des Règles durant un certain laps de temps (à l’appréciation du Référent)\, le Joueur incriminé sera exclu de la Partie. Il pourra\, s’il le souhaite\, revenir sur le Serveur. Mais en respectant cette fois-ci les dites Règles demandées ici-même.\n\n2EME AVERTISSEMENT : En cas de Récidive (faut le faire quand même)\, le Joueur sera exclu définitivement de la Soirée. Il pourra\, s’il le souhaite\, venir s’expliquer en DÉBRIEFING à la fin de la Soirée.\n\n3EME AVERTISSEMENT : N’en parlons même pas\, ça ne sert à rien… –‘ #boulet #jeankevin #vivelamaturité #intellectsouslespieds\n\n\n\n\n2 Modes de Jeu sont proposés dans une même Soirée Gears of War sur Jeu COOP \n\nParamètres Serveur : DODGEBALL\n\n\nMode de Jeu : DodgeBall\n\nMaps Jouées : 3 Maps (5 Maps proposées au Vote)\n\nBots : Si le nombre de Joueurs est insuffisant\, la Difficulté des Bots ajoutés sera en Vétéran\n\nArmes de départ : Lanzor\, Fumigènes\, Pistolet Court & Destructeur\n\nManches pour Gagner : 3\n\nRègles d’Exécution : OUI\n\nTemps passé au Tapis : 10 Secondes\n\nTir Ami : OUI (Réduction)\n\nRéapparitions d’Arme : Après Utilisation\n\nRéglage d’Armes : Classé\n\nScreen des Maps : Bientôt Disponible…\n\n\nParamètres Serveur : ESCALADE\n\n\nMode de Jeu : Escalade\n\nMaps Jouées : 2 Maps (4 Maps proposées au Vote)\n\nBots : Si le nombre de Joueurs est insuffisant\, la Difficulté des Bots ajoutés sera en Vétéran\n\nArmes de départ : Lanzor\, Fumigènes\, Pistolet Court & Destructeur\n\nManches pour Gagner : 7\n\nDurée Limite de la Manche : 120\n\nRègles d’Exécution : OUI\n\nDélai de Réapparition : Dépend des Manches Jouées\n\nTemps passé au Tapis : 10 Secondes\n\nTir Ami : OUI (Réduction)\n\nRéapparitions d’Arme : Après Utilisation\n\nRéglage d’Armes : Classé\n\nScreen des Maps : Bientôt Disponible…\n\n\nLimitations Globales\n\n\nJoueurs PC : Pour le moment\, nous privilégions uniquement les Joueurs Xbox ONE\n\nSkins Interdits : Colorés\, Veilleurs\, URI\, Marcus Agé\, Jour des Morts & Zombies\n\nArmes de Départ Interdites : Exécuteur & Kaomax\n\nArmes au Sol Interdites : Voir ci-dessous
URL:https://www.jeu-coop.fr/evenement/gow4-m16/
CATEGORIES:Gears of War,Soirées
END:VEVENT
END:VCALENDAR